BEGIN:VCALENDAR
VERSION:2.0
METHOD:PUBLISH
BEGIN:VEVENT
DTSTAMP:20260421T061038Z
DTSTART:20200221T000000Z
DTEND:20200221T000000Z
SUMMARY:Committee of Adjustment &amp; Consent Hearing
END:VEVENT
END:VCALENDAR
