BEGIN:VCALENDAR
VERSION:2.0
METHOD:PUBLISH
BEGIN:VEVENT
DTSTAMP:20260419T231158Z
DTSTART:20200131T000000Z
DTEND:20200131T000000Z
SUMMARY:Committee of Adjustment & Consent Hearing
END:VEVENT
END:VCALENDAR
