BEGIN:VCALENDAR
VERSION:2.0
METHOD:PUBLISH
BEGIN:VEVENT
DTSTAMP:20260423T154636Z
DTSTART:20260503T000000Z
DTEND:20260503T020000Z
SUMMARY:The Milton Players Theatre Group Presents the Love List by Norm Foster
LOCATION:1010 Main St. East
END:VEVENT
END:VCALENDAR
