BEGIN:VCALENDAR
VERSION:2.0
METHOD:PUBLISH
BEGIN:VEVENT
DTSTAMP:20260423T142721Z
DTSTART:20260502T233000Z
DTEND:20260503T013000Z
SUMMARY:Milton Philharmonic Orchestra Presents: Symphonic Brilliance
LOCATION:1010 Main St. East
END:VEVENT
END:VCALENDAR
