BEGIN:VCALENDAR
VERSION:2.0
METHOD:PUBLISH
BEGIN:VEVENT
DTSTAMP:20260423T155852Z
DTSTART:20260502T140000Z
DTEND:20260502T210000Z
SUMMARY:TeaFest 2026 
LOCATION:Sherwood Community Centre - Rink B, 6355 Main St W  
END:VEVENT
END:VCALENDAR
