BEGIN:VCALENDAR
VERSION:2.0
METHOD:PUBLISH
BEGIN:VEVENT
DTSTAMP:20260423T142705Z
DTSTART:20260502T000000Z
DTEND:20260502T020000Z
SUMMARY:Kenny & Dolly - Presented by Beaches International
LOCATION:1010 Main St. East
END:VEVENT
END:VCALENDAR
