BEGIN:VCALENDAR
VERSION:2.0
METHOD:PUBLISH
BEGIN:VEVENT
DTSTAMP:20260423T153755Z
DTSTART:20260430T233000Z
DTEND:20260501T013000Z
SUMMARY:It's Too Late to Stop Now - The Music of Van Morrison - Presented by Matt Weidinger
LOCATION:1010 Main St. East
END:VEVENT
END:VCALENDAR
