BEGIN:VCALENDAR
VERSION:2.0
METHOD:PUBLISH
BEGIN:VEVENT
DTSTAMP:20260423T140524Z
DTSTART:20260426T233000Z
DTEND:20260427T013000Z
SUMMARY:Just For Laughs - Presented by FirstOntario Arts Centre Milton
LOCATION:1010 Main St. East
END:VEVENT
END:VCALENDAR
