BEGIN:VCALENDAR
VERSION:2.0
METHOD:PUBLISH
BEGIN:VEVENT
DTSTAMP:20260423T140433Z
DTSTART:20260425T233000Z
DTEND:20260426T013000Z
SUMMARY:The Men of the Deeps - Presented by FirstOntario Arts Centre Milton
LOCATION:1010 Main St. East
END:VEVENT
END:VCALENDAR
