BEGIN:VCALENDAR
VERSION:2.0
METHOD:PUBLISH
BEGIN:VEVENT
DTSTAMP:20260423T143033Z
DTSTART:20260424T233000Z
DTEND:20260425T013000Z
SUMMARY:Fleetwood Mac Mania - Presented by Time Warp Promotions
LOCATION:1010 Main St. East
END:VEVENT
END:VCALENDAR
