BEGIN:VCALENDAR
VERSION:2.0
METHOD:PUBLISH
BEGIN:VEVENT
DTSTAMP:20260423T140109Z
DTSTART:20260409T211500Z
DTEND:20260410T010000Z
SUMMARY:Women as Career Coaches (WACC) 
LOCATION:Burlington Convention Centre, 1120 Burloak Drive, Burlington, L7L 6P8 
END:VEVENT
END:VCALENDAR
