BEGIN:VCALENDAR
VERSION:2.0
METHOD:PUBLISH
BEGIN:VEVENT
DTSTAMP:20260423T044938Z
DTSTART:20260403T140000Z
DTEND:20260403T151500Z
SUMMARY:Easter Craft &amp; Connect 
LOCATION:Milton Fairgrounds - Hall #1, 136 Robert Street, Milton, L9T 1G9 
END:VEVENT
END:VCALENDAR
