BEGIN:VCALENDAR
VERSION:2.0
METHOD:PUBLISH
BEGIN:VEVENT
DTSTAMP:20260423T100958Z
DTSTART:20250211T120000Z
DTEND:20250211T120000Z
SUMMARY:2025 Summer Camp Program Registration Begins
END:VEVENT
END:VCALENDAR
